BEGIN:VCALENDAR
VERSION:2.0
PRODID:-//Northern Virginia Transportation Commission - ECPv6.15.20//NONSGML v1.0//EN
CALSCALE:GREGORIAN
METHOD:PUBLISH
X-ORIGINAL-URL:https://novatransit.org
X-WR-CALDESC:Events for Northern Virginia Transportation Commission
REFRESH-INTERVAL;VALUE=DURATION:PT1H
X-Robots-Tag:noindex
X-PUBLISHED-TTL:PT1H
BEGIN:VTIMEZONE
TZID:America/New_York
BEGIN:DAYLIGHT
TZOFFSETFROM:-0500
TZOFFSETTO:-0400
TZNAME:EDT
DTSTART:20250309T070000
END:DAYLIGHT
BEGIN:STANDARD
TZOFFSETFROM:-0400
TZOFFSETTO:-0500
TZNAME:EST
DTSTART:20251102T060000
END:STANDARD
BEGIN:DAYLIGHT
TZOFFSETFROM:-0500
TZOFFSETTO:-0400
TZNAME:EDT
DTSTART:20260308T070000
END:DAYLIGHT
BEGIN:STANDARD
TZOFFSETFROM:-0400
TZOFFSETTO:-0500
TZNAME:EST
DTSTART:20261101T060000
END:STANDARD
BEGIN:DAYLIGHT
TZOFFSETFROM:-0500
TZOFFSETTO:-0400
TZNAME:EDT
DTSTART:20270314T070000
END:DAYLIGHT
BEGIN:STANDARD
TZOFFSETFROM:-0400
TZOFFSETTO:-0500
TZNAME:EST
DTSTART:20271107T060000
END:STANDARD
END:VTIMEZONE
BEGIN:VEVENT
DTSTART;TZID=America/New_York:20260129T180000
DTEND;TZID=America/New_York:20260129T193000
DTSTAMP:20260425T222921
CREATED:20251125T151847Z
LAST-MODIFIED:20260122T181359Z
UID:29691-1769709600-1769715000@novatransit.org
SUMMARY:Joint WMATA Committee/Legislative and Policy Committee Meeting-Virtual
DESCRIPTION:meeting materials here
URL:https://novatransit.org/event/joint-wmata-committee-legislative-and-policy-committee-meeting-5/
LOCATION:NVTC-Suite 230\, 2300 Wilson Blvd\, #230\, Arlington\, VA\, 22201\, United States
CATEGORIES:Committee Meeting
END:VEVENT
BEGIN:VEVENT
DTSTART;TZID=America/New_York:20260205T164500
DTEND;TZID=America/New_York:20260205T190000
DTSTAMP:20260425T222921
CREATED:20251125T153547Z
LAST-MODIFIED:20251125T153547Z
UID:29698-1770309900-1770318000@novatransit.org
SUMMARY:Legislative Reception
DESCRIPTION:This event is a social event hosted by NVTC and the Commonwealth Strategy Group. More than two Commissioners may attend.  However\, this is not a business meeting and the Commission will not convene as a body\, will not discuss\, consider\, or transact Commission business\, and will not vote or take any action.  The event is open to members of the public wishing to attend.
URL:https://novatransit.org/event/legislative-reception-3/
LOCATION:Commonwealth Strategy Group\, 118 N. 8th Street\, Richmond\, VA\, United States
CATEGORIES:Special Event
END:VEVENT
BEGIN:VEVENT
DTSTART;TZID=America/New_York:20260205T190000
DTEND;TZID=America/New_York:20260205T213000
DTSTAMP:20260425T222921
CREATED:20251125T153251Z
LAST-MODIFIED:20251125T153251Z
UID:29696-1770318000-1770327000@novatransit.org
SUMMARY:No Commission Meeting
DESCRIPTION:
URL:https://novatransit.org/event/no-commission-meeting-6/
LOCATION:VA
CATEGORIES:Meeting
END:VEVENT
BEGIN:VEVENT
DTSTART;TZID=America/New_York:20260219T163000
DTEND;TZID=America/New_York:20260219T180000
DTSTAMP:20260425T222921
CREATED:20251125T153703Z
LAST-MODIFIED:20251125T154249Z
UID:29700-1771518600-1771524000@novatransit.org
SUMMARY:Program Advisory Committee
DESCRIPTION:meeting materials here
URL:https://novatransit.org/event/program-advisory-committee-12/
LOCATION:NVTC-Suite 230\, 2300 Wilson Blvd\, #230\, Arlington\, VA\, 22201\, United States
CATEGORIES:Committee Meeting
END:VEVENT
BEGIN:VEVENT
DTSTART;TZID=America/New_York:20260219T180000
DTEND;TZID=America/New_York:20260219T193000
DTSTAMP:20260425T222921
CREATED:20251125T153932Z
LAST-MODIFIED:20260217T184142Z
UID:29702-1771524000-1771529400@novatransit.org
SUMMARY:Legislative and Policy Committee Meeting
DESCRIPTION:meeting materials here
URL:https://novatransit.org/event/joint-wmata-committee-legislative-and-policy-committee-meeting-6/
LOCATION:NVTC-Suite 230\, 2300 Wilson Blvd\, #230\, Arlington\, VA\, 22201\, United States
CATEGORIES:Committee Meeting
END:VEVENT
BEGIN:VEVENT
DTSTART;TZID=America/New_York:20260304T080000
DTEND;TZID=America/New_York:20260304T170000
DTSTAMP:20260425T222921
CREATED:20260227T141222Z
LAST-MODIFIED:20260227T142021Z
UID:30790-1772611200-1772643600@novatransit.org
SUMMARY:Public Comment Opens/ I-66 Commuter Choice
DESCRIPTION:
URL:https://novatransit.org/event/public-comment-opens-on-i-395-commuter-choice/
LOCATION:VA
CATEGORIES:Public Comment Period
END:VEVENT
BEGIN:VEVENT
DTSTART;TZID=America/New_York:20260305T180000
DTEND;TZID=America/New_York:20260305T190000
DTSTAMP:20260425T222921
CREATED:20251125T154601Z
LAST-MODIFIED:20251203T213509Z
UID:29709-1772733600-1772737200@novatransit.org
SUMMARY:Executive Committee
DESCRIPTION:meeting materials here
URL:https://novatransit.org/event/executive-committee-46/
LOCATION:NVTC-Suite 230\, 2300 Wilson Blvd\, #230\, Arlington\, VA\, 22201\, United States
CATEGORIES:Committee Meeting
END:VEVENT
BEGIN:VEVENT
DTSTART;TZID=America/New_York:20260305T190000
DTEND;TZID=America/New_York:20260305T210000
DTSTAMP:20260425T222921
CREATED:20251125T154652Z
LAST-MODIFIED:20251125T154652Z
UID:29711-1772737200-1772744400@novatransit.org
SUMMARY:Commission Meeting
DESCRIPTION:meeting materials here
URL:https://novatransit.org/event/commission-meeting-54/
LOCATION:NVTC- 1st Floor Conf. Room\, 2300 Wilson Blvd.\, Arlington\, 22201
CATEGORIES:Meeting
END:VEVENT
BEGIN:VEVENT
DTSTART;TZID=America/New_York:20260402T170000
DTEND;TZID=America/New_York:20260402T180000
DTSTAMP:20260425T222921
CREATED:20260325T163733Z
LAST-MODIFIED:20260325T170227Z
UID:31184-1775149200-1775152800@novatransit.org
SUMMARY:Public Hearing-- I-66 Commuter Choice (virtual)
DESCRIPTION:*registration is required for this webinar* \nLearn more about the projects under consideration for I-66 Commuter Choice FY 27-28 funding and provide your feedback. \nIf you are interested in this webinar\, please register here. \n 
URL:https://novatransit.org/event/public-hearing-i-66-commuter-choice/
LOCATION:Virtual
CATEGORIES:Special Event
END:VEVENT
BEGIN:VEVENT
DTSTART;TZID=America/New_York:20260402T190000
DTEND;TZID=America/New_York:20260402T193000
DTSTAMP:20260425T222921
CREATED:20251203T212514Z
LAST-MODIFIED:20251203T212514Z
UID:30063-1775156400-1775158200@novatransit.org
SUMMARY:No Commission Meeting
DESCRIPTION:
URL:https://novatransit.org/event/no-commission-meeting/
LOCATION:VA
END:VEVENT
BEGIN:VEVENT
DTSTART;TZID=America/New_York:20260403T080000
DTEND;TZID=America/New_York:20260403T170000
DTSTAMP:20260425T222921
CREATED:20260227T141522Z
LAST-MODIFIED:20260227T142051Z
UID:30792-1775203200-1775235600@novatransit.org
SUMMARY:Public Comment Closes/ I-66 Commuter Choice
DESCRIPTION:
URL:https://novatransit.org/event/public-comment-closes-i-395-commuter-choice/
LOCATION:VA
CATEGORIES:Public Comment Period
END:VEVENT
BEGIN:VEVENT
DTSTART;TZID=America/New_York:20260416T163000
DTEND;TZID=America/New_York:20260416T173000
DTSTAMP:20260425T222921
CREATED:20251203T212629Z
LAST-MODIFIED:20251203T212629Z
UID:30065-1776357000-1776360600@novatransit.org
SUMMARY:Program Advisory Committee
DESCRIPTION:
URL:https://novatransit.org/event/program-advisory-committee/
LOCATION:NVTC-Suite 230\, 2300 Wilson Blvd\, #230\, Arlington\, VA\, 22201\, United States
CATEGORIES:Committee Meeting
END:VEVENT
BEGIN:VEVENT
DTSTART;TZID=America/New_York:20260416T180000
DTEND;TZID=America/New_York:20260416T193000
DTSTAMP:20260425T222921
CREATED:20251203T212838Z
LAST-MODIFIED:20260408T141036Z
UID:30067-1776362400-1776367800@novatransit.org
SUMMARY:Joint WMATA Cmte./Legislative and Policy Cmte. Meeting
DESCRIPTION:
URL:https://novatransit.org/event/joint-wmata-committee-legislative-and-policy-committee-meeting-7/
LOCATION:NVTC-Suite 230\, 2300 Wilson Blvd\, #230\, Arlington\, VA\, 22201\, United States
CATEGORIES:Committee Meeting
END:VEVENT
BEGIN:VEVENT
DTSTART;TZID=America/New_York:20260507T180000
DTEND;TZID=America/New_York:20260507T190000
DTSTAMP:20260425T222921
CREATED:20251203T213014Z
LAST-MODIFIED:20251203T213630Z
UID:30069-1778176800-1778180400@novatransit.org
SUMMARY:Executive Committee
DESCRIPTION:
URL:https://novatransit.org/event/executive-committee/
LOCATION:NVTC-Suite 230\, 2300 Wilson Blvd\, #230\, Arlington\, VA\, 22201\, United States
CATEGORIES:Committee Meeting
END:VEVENT
BEGIN:VEVENT
DTSTART;TZID=America/New_York:20260507T190000
DTEND;TZID=America/New_York:20260507T210000
DTSTAMP:20260425T222921
CREATED:20251203T213115Z
LAST-MODIFIED:20251203T213115Z
UID:30071-1778180400-1778187600@novatransit.org
SUMMARY:Commission Meeting
DESCRIPTION:
URL:https://novatransit.org/event/commission-meeting/
LOCATION:NVTC- 1st Floor Conf. Room\, 2300 Wilson Blvd.\, Arlington\, 22201
CATEGORIES:Meeting
END:VEVENT
BEGIN:VEVENT
DTSTART;TZID=America/New_York:20260604T180000
DTEND;TZID=America/New_York:20260604T190000
DTSTAMP:20260425T222921
CREATED:20251203T214155Z
LAST-MODIFIED:20251203T214209Z
UID:30076-1780596000-1780599600@novatransit.org
SUMMARY:Executive Committee
DESCRIPTION:
URL:https://novatransit.org/event/executive-committee-2/
LOCATION:NVTC-Suite 230\, 2300 Wilson Blvd\, #230\, Arlington\, VA\, 22201\, United States
CATEGORIES:Committee Meeting
END:VEVENT
BEGIN:VEVENT
DTSTART;TZID=America/New_York:20260604T190000
DTEND;TZID=America/New_York:20260604T210000
DTSTAMP:20260425T222921
CREATED:20251203T213815Z
LAST-MODIFIED:20251203T213840Z
UID:30073-1780599600-1780606800@novatransit.org
SUMMARY:Commission Meeting
DESCRIPTION:
URL:https://novatransit.org/event/commission-meeting-2/
LOCATION:NVTC-Suite 230\, 2300 Wilson Blvd\, #230\, Arlington\, VA\, 22201\, United States
CATEGORIES:Meeting
END:VEVENT
BEGIN:VEVENT
DTSTART;TZID=America/New_York:20260618T163000
DTEND;TZID=America/New_York:20260618T173000
DTSTAMP:20260425T222921
CREATED:20251203T214006Z
LAST-MODIFIED:20251203T214242Z
UID:26418-1781800200-1781803800@novatransit.org
SUMMARY:Program Advisory Committee
DESCRIPTION:
URL:https://novatransit.org/event/program-advisory-committee-2/
LOCATION:NVTC-Suite 230\, 2300 Wilson Blvd\, #230\, Arlington\, VA\, 22201\, United States
CATEGORIES:Committee Meeting
END:VEVENT
BEGIN:VEVENT
DTSTART;TZID=America/New_York:20260618T180000
DTEND;TZID=America/New_York:20260618T190000
DTSTAMP:20260425T222921
CREATED:20251203T214344Z
LAST-MODIFIED:20251203T214344Z
UID:30078-1781805600-1781809200@novatransit.org
SUMMARY:NVTC WMATA Committee
DESCRIPTION:
URL:https://novatransit.org/event/nvtc-wmata-committee-2/
LOCATION:NVTC-Suite 230\, 2300 Wilson Blvd\, #230\, Arlington\, VA\, 22201\, United States
CATEGORIES:Committee Meeting
END:VEVENT
BEGIN:VEVENT
DTSTART;TZID=America/New_York:20260702T180000
DTEND;TZID=America/New_York:20260702T190000
DTSTAMP:20260425T222921
CREATED:20251203T214445Z
LAST-MODIFIED:20251203T214445Z
UID:30080-1783015200-1783018800@novatransit.org
SUMMARY:Executive Committee
DESCRIPTION:
URL:https://novatransit.org/event/executive-committee-3/
LOCATION:NVTC-Suite 230\, 2300 Wilson Blvd\, #230\, Arlington\, VA\, 22201\, United States
CATEGORIES:Committee Meeting
END:VEVENT
BEGIN:VEVENT
DTSTART;TZID=America/New_York:20260702T190000
DTEND;TZID=America/New_York:20260702T210000
DTSTAMP:20260425T222921
CREATED:20251203T214525Z
LAST-MODIFIED:20251203T214559Z
UID:30082-1783018800-1783026000@novatransit.org
SUMMARY:Commission Meeting
DESCRIPTION:
URL:https://novatransit.org/event/commission-meeting-3/
LOCATION:NVTC- 1st Floor Conf. Room\, 2300 Wilson Blvd.\, Arlington\, 22201
CATEGORIES:Meeting
END:VEVENT
BEGIN:VEVENT
DTSTART;TZID=America/New_York:20260806T190000
DTEND;TZID=America/New_York:20260806T210000
DTSTAMP:20260425T222921
CREATED:20251203T214648Z
LAST-MODIFIED:20251203T214648Z
UID:30084-1786042800-1786050000@novatransit.org
SUMMARY:No Commission Meeting
DESCRIPTION:
URL:https://novatransit.org/event/no-commission-meeting-2/
LOCATION:VA
CATEGORIES:Meeting
END:VEVENT
BEGIN:VEVENT
DTSTART;TZID=America/New_York:20260903T180000
DTEND;TZID=America/New_York:20260903T190000
DTSTAMP:20260425T222921
CREATED:20260106T151504Z
LAST-MODIFIED:20260106T151504Z
UID:30361-1788458400-1788462000@novatransit.org
SUMMARY:Executive Committee Meeting
DESCRIPTION:meeting materials here
URL:https://novatransit.org/event/executive-committee-meeting/
LOCATION:NVTC-Suite 230\, 2300 Wilson Blvd\, #230\, Arlington\, VA\, 22201\, United States
CATEGORIES:Committee Meeting
END:VEVENT
BEGIN:VEVENT
DTSTART;TZID=America/New_York:20260903T193000
DTEND;TZID=America/New_York:20260903T210000
DTSTAMP:20260425T222921
CREATED:20260106T151245Z
LAST-MODIFIED:20260106T151331Z
UID:30358-1788463800-1788469200@novatransit.org
SUMMARY:Commission Meeting
DESCRIPTION:meeting materials here
URL:https://novatransit.org/event/commission-meeting-4/
LOCATION:NVTC- 1st Floor Conf. Room\, 2300 Wilson Blvd.\, Arlington\, 22201
CATEGORIES:Meeting
END:VEVENT
BEGIN:VEVENT
DTSTART;TZID=America/New_York:20260917T163000
DTEND;TZID=America/New_York:20260917T180000
DTSTAMP:20260425T222921
CREATED:20260106T151701Z
LAST-MODIFIED:20260106T151701Z
UID:30363-1789662600-1789668000@novatransit.org
SUMMARY:Program Advisory Committee
DESCRIPTION:meeting materials here
URL:https://novatransit.org/event/program-advisory-committee-3/
LOCATION:NVTC-Suite 230\, 2300 Wilson Blvd\, #230\, Arlington\, VA\, 22201\, United States
CATEGORIES:Committee Meeting
END:VEVENT
BEGIN:VEVENT
DTSTART;TZID=America/New_York:20260917T180000
DTEND;TZID=America/New_York:20260917T193000
DTSTAMP:20260425T222921
CREATED:20260106T151815Z
LAST-MODIFIED:20260106T151815Z
UID:30365-1789668000-1789673400@novatransit.org
SUMMARY:Joint WMATA Committee/Legislative and Policy Committee Meeting
DESCRIPTION:meeting materials here
URL:https://novatransit.org/event/joint-wmata-committee-legislative-and-policy-committee-meeting-8/
LOCATION:NVTC-Suite 230\, 2300 Wilson Blvd\, #230\, Arlington\, VA\, 22201\, United States
CATEGORIES:Committee Meeting
END:VEVENT
BEGIN:VEVENT
DTSTART;TZID=America/New_York:20261001T180000
DTEND;TZID=America/New_York:20261001T193000
DTSTAMP:20260425T222921
CREATED:20260106T160603Z
LAST-MODIFIED:20260202T145825Z
UID:30369-1790877600-1790883000@novatransit.org
SUMMARY:Executive Committee
DESCRIPTION:meeting materials here
URL:https://novatransit.org/event/executive-committee-4/
LOCATION:NVTC-Suite 230\, 2300 Wilson Blvd\, #230\, Arlington\, VA\, 22201\, United States
CATEGORIES:Committee Meeting
END:VEVENT
BEGIN:VEVENT
DTSTART;TZID=America/New_York:20261001T190000
DTEND;TZID=America/New_York:20261001T203000
DTSTAMP:20260425T222921
CREATED:20260106T151917Z
LAST-MODIFIED:20260106T151917Z
UID:30367-1790881200-1790886600@novatransit.org
SUMMARY:Commission Meeting
DESCRIPTION:meeting materials here
URL:https://novatransit.org/event/commission-meeting-5/
LOCATION:NVTC-Suite 230\, 2300 Wilson Blvd\, #230\, Arlington\, VA\, 22201\, United States
CATEGORIES:Meeting
END:VEVENT
BEGIN:VEVENT
DTSTART;TZID=America/New_York:20261015T180000
DTEND;TZID=America/New_York:20261015T193000
DTSTAMP:20260425T222921
CREATED:20260106T160658Z
LAST-MODIFIED:20260106T160658Z
UID:30371-1792087200-1792092600@novatransit.org
SUMMARY:Joint WMATA Committee/Legislative and Policy Committee Meeting
DESCRIPTION:meeting materials here
URL:https://novatransit.org/event/joint-wmata-committee-legislative-and-policy-committee-meeting-9/
LOCATION:NVTC-Suite 230\, 2300 Wilson Blvd\, #230\, Arlington\, VA\, 22201\, United States
CATEGORIES:Committee Meeting
END:VEVENT
BEGIN:VEVENT
DTSTART;TZID=America/New_York:20261105T180000
DTEND;TZID=America/New_York:20261105T190000
DTSTAMP:20260425T222921
CREATED:20260202T144251Z
LAST-MODIFIED:20260202T144251Z
UID:30721-1793901600-1793905200@novatransit.org
SUMMARY:Executive Committee Meeting
DESCRIPTION:meeting materials here
URL:https://novatransit.org/event/executive-committee-meeting-5/
LOCATION:NVTC-Suite 230\, 2300 Wilson Blvd\, #230\, Arlington\, VA\, 22201\, United States
CATEGORIES:Committee Meeting
END:VEVENT
END:VCALENDAR