BEGIN:VCALENDAR
VERSION:2.0
PRODID:-//Northern Virginia Transportation Commission - ECPv6.15.20//NONSGML v1.0//EN
CALSCALE:GREGORIAN
METHOD:PUBLISH
X-WR-CALNAME:Northern Virginia Transportation Commission
X-ORIGINAL-URL:https://novatransit.org
X-WR-CALDESC:Events for Northern Virginia Transportation Commission
REFRESH-INTERVAL;VALUE=DURATION:PT1H
X-Robots-Tag:noindex
X-PUBLISHED-TTL:PT1H
BEGIN:VTIMEZONE
TZID:America/New_York
BEGIN:DAYLIGHT
TZOFFSETFROM:-0500
TZOFFSETTO:-0400
TZNAME:EDT
DTSTART:20220313T070000
END:DAYLIGHT
BEGIN:STANDARD
TZOFFSETFROM:-0400
TZOFFSETTO:-0500
TZNAME:EST
DTSTART:20221106T060000
END:STANDARD
BEGIN:DAYLIGHT
TZOFFSETFROM:-0500
TZOFFSETTO:-0400
TZNAME:EDT
DTSTART:20230312T070000
END:DAYLIGHT
BEGIN:STANDARD
TZOFFSETFROM:-0400
TZOFFSETTO:-0500
TZNAME:EST
DTSTART:20231105T060000
END:STANDARD
BEGIN:DAYLIGHT
TZOFFSETFROM:-0500
TZOFFSETTO:-0400
TZNAME:EDT
DTSTART:20240310T070000
END:DAYLIGHT
BEGIN:STANDARD
TZOFFSETFROM:-0400
TZOFFSETTO:-0500
TZNAME:EST
DTSTART:20241103T060000
END:STANDARD
BEGIN:DAYLIGHT
TZOFFSETFROM:-0500
TZOFFSETTO:-0400
TZNAME:EDT
DTSTART:20250309T070000
END:DAYLIGHT
BEGIN:STANDARD
TZOFFSETFROM:-0400
TZOFFSETTO:-0500
TZNAME:EST
DTSTART:20251102T060000
END:STANDARD
END:VTIMEZONE
BEGIN:VEVENT
DTSTART;TZID=America/New_York:20240614T083000
DTEND;TZID=America/New_York:20240614T140000
DTSTAMP:20260426T002026
CREATED:20240603T151340Z
LAST-MODIFIED:20240612T182253Z
UID:25253-1718353800-1718373600@novatransit.org
SUMMARY:Transit Innovation Summit
DESCRIPTION:Join transit leaders and experts from across the region to learn about the latest innovations in public transit. A video recording of this event and presentation slides will be posted on the Transit Summit webpage at the conclusion of the Summit. \nLearn more here. \n$25 fee This event is SOLD OUT\nRegistration required \nMore than two NVTC Commissioners plan to attend the Summit. However\, no NVTC Commission business or action will occur at this event.
URL:https://novatransit.org/event/transit-innovation-summit/
LOCATION:GMU Schar School\, 3351 Fairfax Drive\, Arlington\, VA\, 22201\, United States
END:VEVENT
BEGIN:VEVENT
DTSTART;TZID=America/New_York:20240606T190000
DTEND;TZID=America/New_York:20240606T200000
DTSTAMP:20260426T002026
CREATED:20240130T154556Z
LAST-MODIFIED:20240130T154556Z
UID:23787-1717700400-1717704000@novatransit.org
SUMMARY:Commission Meeting
DESCRIPTION:meeting materials
URL:https://novatransit.org/event/commission-meeting-40/
LOCATION:NVTC- 1st Floor Conf. Room\, 2300 Wilson Blvd.\, Arlington\, 22201
END:VEVENT
BEGIN:VEVENT
DTSTART;TZID=America/New_York:20240606T180000
DTEND;TZID=America/New_York:20240606T190000
DTSTAMP:20260426T002026
CREATED:20240130T154742Z
LAST-MODIFIED:20240130T154742Z
UID:23789-1717696800-1717700400@novatransit.org
SUMMARY:Executive Committee
DESCRIPTION:meeting materials
URL:https://novatransit.org/event/executive-committee-33/
LOCATION:NVTC-Suite 230\, 2300 Wilson Blvd\, #230\, Arlington\, VA\, 22201\, United States
END:VEVENT
BEGIN:VEVENT
DTSTART;TZID=America/New_York:20240516T180000
DTEND;TZID=America/New_York:20240516T193000
DTSTAMP:20260426T002026
CREATED:20240318T150128Z
LAST-MODIFIED:20240318T150306Z
UID:24711-1715882400-1715887800@novatransit.org
SUMMARY:Joint WMATA/Legislative and Policy Committee
DESCRIPTION:meeting materials
URL:https://novatransit.org/event/joint-wmata-legislative-and-policy-committee/
LOCATION:NVTC-Suite 230\, 2300 Wilson Blvd\, #230\, Arlington\, VA\, 22201\, United States
END:VEVENT
BEGIN:VEVENT
DTSTART;TZID=America/New_York:20240502T190000
DTEND;TZID=America/New_York:20240502T200000
DTSTAMP:20260426T002026
CREATED:20240130T154237Z
LAST-MODIFIED:20240130T154237Z
UID:23783-1714676400-1714680000@novatransit.org
SUMMARY:Commission Meeting
DESCRIPTION:meeting materials
URL:https://novatransit.org/event/commission-meeting-37/
LOCATION:NVTC-Suite 230\, 2300 Wilson Blvd\, #230\, Arlington\, VA\, 22201\, United States
END:VEVENT
BEGIN:VEVENT
DTSTART;TZID=America/New_York:20240502T180000
DTEND;TZID=America/New_York:20240502T190000
DTSTAMP:20260426T002026
CREATED:20240130T154438Z
LAST-MODIFIED:20240130T154438Z
UID:23785-1714672800-1714676400@novatransit.org
SUMMARY:Executive Committee
DESCRIPTION:meeting materials
URL:https://novatransit.org/event/executive-committee-32/
LOCATION:NVTC-Suite 230\, 2300 Wilson Blvd\, #230\, Arlington\, VA\, 22201\, United States
END:VEVENT
BEGIN:VEVENT
DTSTART;TZID=America/New_York:20240411T163000
DTEND;TZID=America/New_York:20240411T180000
DTSTAMP:20260426T002026
CREATED:20240314T155506Z
LAST-MODIFIED:20240314T155506Z
UID:24706-1712853000-1712858400@novatransit.org
SUMMARY:Program Advisory Committee
DESCRIPTION:Meeting Materials
URL:https://novatransit.org/event/program-advisory-committee-8/
LOCATION:NVTC-Suite 230\, 2300 Wilson Blvd\, #230\, Arlington\, VA\, 22201\, United States
END:VEVENT
BEGIN:VEVENT
DTSTART;TZID=America/New_York:20240404T190000
DTEND;TZID=America/New_York:20240404T213000
DTSTAMP:20260426T002026
CREATED:20231115T171127Z
LAST-MODIFIED:20231115T171127Z
UID:22899-1712257200-1712266200@novatransit.org
SUMMARY:Commission Meeting
DESCRIPTION:Meeting Materials
URL:https://novatransit.org/event/commission-meeting-39/
LOCATION:NVTC- 1st Floor Conf. Room\, 2300 Wilson Blvd.\, Arlington\, 22201
END:VEVENT
BEGIN:VEVENT
DTSTART;TZID=America/New_York:20240404T180000
DTEND;TZID=America/New_York:20240404T190000
DTSTAMP:20260426T002026
CREATED:20231115T171230Z
LAST-MODIFIED:20240215T171124Z
UID:22901-1712253600-1712257200@novatransit.org
SUMMARY:Executive Committee
DESCRIPTION:Meeting Materials
URL:https://novatransit.org/event/executive-committee-31/
LOCATION:NVTC-Suite 230\, 2300 Wilson Blvd\, #230\, Arlington\, VA\, 22201\, United States
END:VEVENT
BEGIN:VEVENT
DTSTART;TZID=America/New_York:20240307T190000
DTEND;TZID=America/New_York:20240307T213000
DTSTAMP:20260426T002026
CREATED:20231115T171025Z
LAST-MODIFIED:20231115T171025Z
UID:22897-1709838000-1709847000@novatransit.org
SUMMARY:Commission Meeting
DESCRIPTION:Meeting Materials
URL:https://novatransit.org/event/commission-meeting-38/
LOCATION:NVTC- 1st Floor Conf. Room\, 2300 Wilson Blvd.\, Arlington\, 22201
END:VEVENT
BEGIN:VEVENT
DTSTART;TZID=America/New_York:20240307T180000
DTEND;TZID=America/New_York:20240307T190000
DTSTAMP:20260426T002026
CREATED:20231115T170926Z
LAST-MODIFIED:20240215T171027Z
UID:22895-1709834400-1709838000@novatransit.org
SUMMARY:Executive Committee
DESCRIPTION:Meeting Materials
URL:https://novatransit.org/event/executive-committee-30/
LOCATION:NVTC-Suite 230\, 2300 Wilson Blvd\, #230\, Arlington\, VA\, 22201\, United States
END:VEVENT
BEGIN:VEVENT
DTSTART;TZID=America/New_York:20240229T180000
DTEND;TZID=America/New_York:20240229T200000
DTSTAMP:20260426T002026
CREATED:20240103T203633Z
LAST-MODIFIED:20240222T174423Z
UID:23536-1709229600-1709236800@novatransit.org
SUMMARY:*WMATA Committee-virtual
DESCRIPTION:Meeting Materials \nMeeting is all virtual. Watch it on our YouTube channel.
URL:https://novatransit.org/event/wmata-committee-25/
LOCATION:NVTC-Suite 230\, 2300 Wilson Blvd\, #230\, Arlington\, VA\, 22201\, United States
END:VEVENT
BEGIN:VEVENT
DTSTART;TZID=America/New_York:20240215T163000
DTEND;TZID=America/New_York:20240215T180000
DTSTAMP:20260426T002026
CREATED:20240103T203443Z
LAST-MODIFIED:20240103T203443Z
UID:23532-1708014600-1708020000@novatransit.org
SUMMARY:Program Advisory Committee
DESCRIPTION:Meeting Materials
URL:https://novatransit.org/event/program-advisory-committee-7/
LOCATION:NVTC-Suite 230\, 2300 Wilson Blvd\, #230\, Arlington\, VA\, 22201\, United States
END:VEVENT
BEGIN:VEVENT
DTSTART;TZID=America/New_York:20240201T164500
DTEND;TZID=America/New_York:20240201T190000
DTSTAMP:20260426T002026
CREATED:20240110T163517Z
LAST-MODIFIED:20240111T211412Z
UID:23611-1706805900-1706814000@novatransit.org
SUMMARY:Legislative Reception 
DESCRIPTION:This event is a social event hosted by NVTC and the Commonwealth Strategy Group. More than two Commissioners may attend.  However\, this is not a business meeting and the Commission will not convene as a body\, will not discuss\, consider\, or transact Commission business\, and will not vote or take any action.  The event is open to members of the public wishing to attend.
URL:https://novatransit.org/event/legislative-reception/
LOCATION:St. Paul’s Episcopal Church\, 815 E. Grace Street\, Richmonda\, VA\, 23219\, United States
END:VEVENT
BEGIN:VEVENT
DTSTART;TZID=America/New_York:20240104T190000
DTEND;TZID=America/New_York:20240104T213000
DTSTAMP:20260426T002026
CREATED:20231115T170120Z
LAST-MODIFIED:20231221T162430Z
UID:22889-1704394800-1704403800@novatransit.org
SUMMARY:Commission Meeting
DESCRIPTION:Meeting Materials \nThere will be public hearing on the 2024-2025 Work Plan during the Commission meeting. More information on how to provide comment can be found here.
URL:https://novatransit.org/event/commission-meeting-36/
LOCATION:NVTC- 1st Floor Conf. Room\, 2300 Wilson Blvd.\, Arlington\, 22201
END:VEVENT
BEGIN:VEVENT
DTSTART;TZID=America/New_York:20240104T190000
DTEND;TZID=America/New_York:20240104T210000
DTSTAMP:20260426T002026
CREATED:20231221T190345Z
LAST-MODIFIED:20231221T190345Z
UID:23457-1704394800-1704402000@novatransit.org
SUMMARY:Public Hearing
DESCRIPTION:There will be public hearing on the 2024-2025 Work Plan during the Commission meeting. More information on how to provide comment can be found here.
URL:https://novatransit.org/event/public-hearing/
LOCATION:NVTC-Suite 230\, 2300 Wilson Blvd\, #230\, Arlington\, VA\, 22201\, United States
END:VEVENT
BEGIN:VEVENT
DTSTART;TZID=America/New_York:20240104T180000
DTEND;TZID=America/New_York:20240104T190000
DTSTAMP:20260426T002026
CREATED:20231115T170231Z
LAST-MODIFIED:20231115T170231Z
UID:22891-1704391200-1704394800@novatransit.org
SUMMARY:Executive Committee
DESCRIPTION:Meeting Materials
URL:https://novatransit.org/event/executive-committee-29/
LOCATION:NVTC-Suite 230\, 2300 Wilson Blvd\, #230\, Arlington\, VA\, 22201\, United States
END:VEVENT
BEGIN:VEVENT
DTSTART;TZID=America/New_York:20231207T190000
DTEND;TZID=America/New_York:20231207T213000
DTSTAMP:20260426T002026
CREATED:20230425T202003Z
LAST-MODIFIED:20230425T202003Z
UID:21438-1701975600-1701984600@novatransit.org
SUMMARY:Commission Meeting
DESCRIPTION:Meeting materials.
URL:https://novatransit.org/event/commission-meeting-35/
LOCATION:NVTC- 1st Floor Conf. Room\, 2300 Wilson Blvd.\, Arlington\, 22201
END:VEVENT
BEGIN:VEVENT
DTSTART;TZID=America/New_York:20231207T173000
DTEND;TZID=America/New_York:20231207T190000
DTSTAMP:20260426T002026
CREATED:20230425T201922Z
LAST-MODIFIED:20231113T151528Z
UID:21436-1701970200-1701975600@novatransit.org
SUMMARY:Executive Committee
DESCRIPTION:Meeting materials.
URL:https://novatransit.org/event/executive-committee-28/
LOCATION:NVTC-Suite 230\, 2300 Wilson Blvd\, #230\, Arlington\, VA\, 22201\, United States
END:VEVENT
BEGIN:VEVENT
DTSTART;TZID=America/New_York:20231201T083000
DTEND;TZID=America/New_York:20231201T110000
DTSTAMP:20260426T002026
CREATED:20230914T155759Z
LAST-MODIFIED:20231115T181728Z
UID:22255-1701419400-1701428400@novatransit.org
SUMMARY:Annual Legislative Forum
DESCRIPTION:register here \nread more about the event here
URL:https://novatransit.org/event/annual-legislative-forum/
LOCATION:Schar School/Van Metre Hall\, GMU\, 3351 Fairfax Drive\, Arlington\, Virginia\, 22201
ATTACH;FMTTYPE=image/png:https://novatransit.org/wp-content/uploads/Screenshot-2023-11-15-131550.png
END:VEVENT
BEGIN:VEVENT
DTSTART;TZID=America/New_York:20231102T190000
DTEND;TZID=America/New_York:20231102T213000
DTSTAMP:20260426T002026
CREATED:20230425T201823Z
LAST-MODIFIED:20230425T201823Z
UID:21434-1698951600-1698960600@novatransit.org
SUMMARY:Commission Meeting
DESCRIPTION:Meeting materials.
URL:https://novatransit.org/event/commission-meeting-34/
LOCATION:NVTC-Suite 230\, 2300 Wilson Blvd\, #230\, Arlington\, VA\, 22201\, United States
END:VEVENT
BEGIN:VEVENT
DTSTART;TZID=America/New_York:20231102T180000
DTEND;TZID=America/New_York:20231102T190000
DTSTAMP:20260426T002026
CREATED:20230425T201734Z
LAST-MODIFIED:20231024T202855Z
UID:21432-1698948000-1698951600@novatransit.org
SUMMARY:Executive Committee
DESCRIPTION:Meeting materials.
URL:https://novatransit.org/event/executive-committee-27/
LOCATION:NVTC-Suite 230\, 2300 Wilson Blvd\, #230\, Arlington\, VA\, 22201\, United States
END:VEVENT
BEGIN:VEVENT
DTSTART;TZID=America/New_York:20231019T180000
DTEND;TZID=America/New_York:20231019T200000
DTSTAMP:20260426T002026
CREATED:20230630T172544Z
LAST-MODIFIED:20231012T205251Z
UID:21962-1697738400-1697745600@novatransit.org
SUMMARY:Joint WMATA Committee and Legislative and Policy Committee
DESCRIPTION:meeting materials
URL:https://novatransit.org/event/joint-wmata-committee-and-legislative-and-policy-committee/
LOCATION:NVTC-Suite 230\, 2300 Wilson Blvd\, #230\, Arlington\, VA\, 22201\, United States
END:VEVENT
BEGIN:VEVENT
DTSTART;TZID=America/New_York:20231005T190000
DTEND;TZID=America/New_York:20231005T213000
DTSTAMP:20260426T002026
CREATED:20230425T201301Z
LAST-MODIFIED:20230425T201301Z
UID:21428-1696532400-1696541400@novatransit.org
SUMMARY:Commission Meeting
DESCRIPTION:Meeting materials.
URL:https://novatransit.org/event/commission-meeting-33/
LOCATION:NVTC- 1st Floor Conf. Room\, 2300 Wilson Blvd.\, Arlington\, 22201
END:VEVENT
BEGIN:VEVENT
DTSTART;TZID=America/New_York:20231005T180000
DTEND;TZID=America/New_York:20231005T190000
DTSTAMP:20260426T002026
CREATED:20230425T201409Z
LAST-MODIFIED:20230928T170802Z
UID:21430-1696528800-1696532400@novatransit.org
SUMMARY:Executive Committee
DESCRIPTION:Meeting materials.
URL:https://novatransit.org/event/executive-committee-26/
LOCATION:NVTC-Suite 230\, 2300 Wilson Blvd\, #230\, Arlington\, VA\, 22201\, United States
END:VEVENT
BEGIN:VEVENT
DTSTART;TZID=America/New_York:20230921T180000
DTEND;TZID=America/New_York:20230921T190000
DTSTAMP:20260426T002026
CREATED:20230713T194406Z
LAST-MODIFIED:20230713T194406Z
UID:22000-1695319200-1695322800@novatransit.org
SUMMARY:WMATA Committee
DESCRIPTION:meeting materials \n 
URL:https://novatransit.org/event/wmata-committee-23/
LOCATION:NVTC-Suite 230\, 2300 Wilson Blvd\, #230\, Arlington\, VA\, 22201\, United States
END:VEVENT
BEGIN:VEVENT
DTSTART;TZID=America/New_York:20230921T160000
DTEND;TZID=America/New_York:20230921T170000
DTSTAMP:20260426T002026
CREATED:20230629T203138Z
LAST-MODIFIED:20230908T163647Z
UID:21952-1695312000-1695315600@novatransit.org
SUMMARY:Program & Advisory Committee
DESCRIPTION:meeting materials
URL:https://novatransit.org/event/pac23/
LOCATION:NVTC-Suite 230\, 2300 Wilson Blvd\, #230\, Arlington\, VA\, 22201\, United States
END:VEVENT
BEGIN:VEVENT
DTSTART;TZID=America/New_York:20230907T190000
DTEND;TZID=America/New_York:20230907T210000
DTSTAMP:20260426T002026
CREATED:20230424T143446Z
LAST-MODIFIED:20230424T143604Z
UID:21413-1694113200-1694120400@novatransit.org
SUMMARY:Commission Meeting
DESCRIPTION:Meeting materials.
URL:https://novatransit.org/event/commission-meeting-32/
LOCATION:NVTC- 1st Floor Conf. Room\, 2300 Wilson Blvd.\, Arlington\, 22201
END:VEVENT
BEGIN:VEVENT
DTSTART;TZID=America/New_York:20230907T181500
DTEND;TZID=America/New_York:20230907T190000
DTSTAMP:20260426T002026
CREATED:20230424T143721Z
LAST-MODIFIED:20230424T143721Z
UID:21416-1694110500-1694113200@novatransit.org
SUMMARY:Executive Committee
DESCRIPTION:Meeting materials.
URL:https://novatransit.org/event/executive-committee-25/
LOCATION:NVTC-Suite 230\, 2300 Wilson Blvd\, #230\, Arlington\, VA\, 22201\, United States
END:VEVENT
BEGIN:VEVENT
DTSTART;TZID=America/New_York:20230831T180000
DTEND;TZID=America/New_York:20230831T193000
DTSTAMP:20260426T002026
CREATED:20230629T203055Z
LAST-MODIFIED:20230629T203055Z
UID:21950-1693504800-1693510200@novatransit.org
SUMMARY:Legislative & Policy Committee
DESCRIPTION:meeting materials
URL:https://novatransit.org/event/legislative-policy-committee-8/
LOCATION:NVTC-Suite 230\, 2300 Wilson Blvd\, #230\, Arlington\, VA\, 22201\, United States
END:VEVENT
END:VCALENDAR