BEGIN:VCALENDAR
VERSION:2.0
PRODID:-//Northern Virginia Transportation Commission - ECPv6.15.20//NONSGML v1.0//EN
CALSCALE:GREGORIAN
METHOD:PUBLISH
X-WR-CALNAME:Northern Virginia Transportation Commission
X-ORIGINAL-URL:https://novatransit.org
X-WR-CALDESC:Events for Northern Virginia Transportation Commission
REFRESH-INTERVAL;VALUE=DURATION:PT1H
X-Robots-Tag:noindex
X-PUBLISHED-TTL:PT1H
BEGIN:VTIMEZONE
TZID:America/New_York
BEGIN:DAYLIGHT
TZOFFSETFROM:-0500
TZOFFSETTO:-0400
TZNAME:EDT
DTSTART:20240310T070000
END:DAYLIGHT
BEGIN:STANDARD
TZOFFSETFROM:-0400
TZOFFSETTO:-0500
TZNAME:EST
DTSTART:20241103T060000
END:STANDARD
BEGIN:DAYLIGHT
TZOFFSETFROM:-0500
TZOFFSETTO:-0400
TZNAME:EDT
DTSTART:20250309T070000
END:DAYLIGHT
BEGIN:STANDARD
TZOFFSETFROM:-0400
TZOFFSETTO:-0500
TZNAME:EST
DTSTART:20251102T060000
END:STANDARD
BEGIN:DAYLIGHT
TZOFFSETFROM:-0500
TZOFFSETTO:-0400
TZNAME:EDT
DTSTART:20260308T070000
END:DAYLIGHT
BEGIN:STANDARD
TZOFFSETFROM:-0400
TZOFFSETTO:-0500
TZNAME:EST
DTSTART:20261101T060000
END:STANDARD
END:VTIMEZONE
BEGIN:VEVENT
DTSTART;TZID=America/New_York:20250220T163000
DTEND;TZID=America/New_York:20250220T180000
DTSTAMP:20260425T184213
CREATED:20241126T165454Z
LAST-MODIFIED:20241126T165454Z
UID:26427-1740069000-1740074400@novatransit.org
SUMMARY:Program Advisory Committee
DESCRIPTION:meeting materials
URL:https://novatransit.org/event/program-advisory-committee-9/
LOCATION:NVTC-Suite 230\, 2300 Wilson Blvd\, #230\, Arlington\, VA\, 22201\, United States
END:VEVENT
BEGIN:VEVENT
DTSTART;TZID=America/New_York:20250220T180000
DTEND;TZID=America/New_York:20250220T193000
DTSTAMP:20260425T184213
CREATED:20241126T165653Z
LAST-MODIFIED:20241126T165653Z
UID:26429-1740074400-1740079800@novatransit.org
SUMMARY:Joint NVTC WMATA Committee/Legislative and Policy Committee
DESCRIPTION:meeting materials
URL:https://novatransit.org/event/joint-nvtc-wmata-committee-legislative-and-policy-committee/
LOCATION:NVTC-Suite 230\, 2300 Wilson Blvd\, #230\, Arlington\, VA\, 22201\, United States
END:VEVENT
BEGIN:VEVENT
DTSTART;TZID=America/New_York:20250306T180000
DTEND;TZID=America/New_York:20250306T190000
DTSTAMP:20260425T184213
CREATED:20241126T164752Z
LAST-MODIFIED:20241126T164752Z
UID:26421-1741284000-1741287600@novatransit.org
SUMMARY:Executive Committee
DESCRIPTION:Meeting Materials
URL:https://novatransit.org/event/executive-committee-39/
LOCATION:NVTC-Suite 230\, 2300 Wilson Blvd\, #230\, Arlington\, VA\, 22201\, United States
END:VEVENT
BEGIN:VEVENT
DTSTART;TZID=America/New_York:20250306T190000
DTEND;TZID=America/New_York:20250306T210000
DTSTAMP:20260425T184213
CREATED:20241126T165055Z
LAST-MODIFIED:20250306T214821Z
UID:26424-1741287600-1741294800@novatransit.org
SUMMARY:Commission Meeting
DESCRIPTION:Meeting Materials
URL:https://novatransit.org/event/commission-meeting-46/
LOCATION:NVTC- 1st Floor Conf. Room\, 2300 Wilson Blvd.\, Arlington\, 22201
END:VEVENT
BEGIN:VEVENT
DTSTART;TZID=America/New_York:20250403T180000
DTEND;TZID=America/New_York:20250403T190000
DTSTAMP:20260425T184213
CREATED:20250121T192733Z
LAST-MODIFIED:20250121T192752Z
UID:26612-1743703200-1743706800@novatransit.org
SUMMARY:Executive Committee
DESCRIPTION:Meeting Materials
URL:https://novatransit.org/event/executive-committee-40/
LOCATION:NVTC-Suite 230\, 2300 Wilson Blvd\, #230\, Arlington\, VA\, 22201\, United States
END:VEVENT
BEGIN:VEVENT
DTSTART;TZID=America/New_York:20250403T190000
DTEND;TZID=America/New_York:20250403T210000
DTSTAMP:20260425T184213
CREATED:20250121T192838Z
LAST-MODIFIED:20250121T192838Z
UID:26615-1743706800-1743714000@novatransit.org
SUMMARY:Commission Meeting
DESCRIPTION:Meeting Materials
URL:https://novatransit.org/event/commission-meeting-47/
LOCATION:NVTC- 1st Floor Conf. Room\, 2300 Wilson Blvd.\, Arlington\, 22201
END:VEVENT
BEGIN:VEVENT
DTSTART;TZID=America/New_York:20250424T160000
DTEND;TZID=America/New_York:20250424T163000
DTSTAMP:20260425T184213
CREATED:20250410T144802Z
LAST-MODIFIED:20250414T160835Z
UID:27055-1745510400-1745512200@novatransit.org
SUMMARY:Public Hearing- I-395/95 Commuter Choice (virtual)
DESCRIPTION:Tell us what you think about 12 potential bus service enhancements for ART\, DASH\, Fairfax Connector\, Metrobus and OmniRide; one new Metrobus route; and the improvement of VRE’s Leeland Road Station.\nRegister for the online-only public hearing.
URL:https://novatransit.org/event/public-hearing-i-395-95-commuter-choice/
LOCATION:Virtual
END:VEVENT
BEGIN:VEVENT
DTSTART;TZID=America/New_York:20250424T163000
DTEND;TZID=America/New_York:20250424T180000
DTSTAMP:20260425T184213
CREATED:20250121T193141Z
LAST-MODIFIED:20250417T171821Z
UID:26617-1745512200-1745517600@novatransit.org
SUMMARY:*Joint Program Advisory Committee/NVTC-PRTC Joint Commission Working Group (virtual)
DESCRIPTION:Meeting Materials
URL:https://novatransit.org/event/joint-program-advisory-committee-nvtc-prtc-joint-commission-working-group/
LOCATION:Virtual
END:VEVENT
BEGIN:VEVENT
DTSTART;TZID=America/New_York:20250501T180000
DTEND;TZID=America/New_York:20250501T190000
DTSTAMP:20260425T184213
CREATED:20250121T193426Z
LAST-MODIFIED:20250121T193426Z
UID:26619-1746122400-1746126000@novatransit.org
SUMMARY:Executive Committee
DESCRIPTION:meeting materials
URL:https://novatransit.org/event/executive-committee-41/
LOCATION:NVTC-Suite 230\, 2300 Wilson Blvd\, #230\, Arlington\, VA\, 22201\, United States
END:VEVENT
BEGIN:VEVENT
DTSTART;TZID=America/New_York:20250501T190000
DTEND;TZID=America/New_York:20250501T203000
DTSTAMP:20260425T184213
CREATED:20250121T193530Z
LAST-MODIFIED:20250121T193530Z
UID:26621-1746126000-1746131400@novatransit.org
SUMMARY:Commission Meeting
DESCRIPTION:meeting materials
URL:https://novatransit.org/event/commission-meeting-48/
LOCATION:NVTC- 1st Floor Conf. Room\, 2300 Wilson Blvd.\, Arlington\, 22201
END:VEVENT
BEGIN:VEVENT
DTSTART;TZID=America/New_York:20250529T180000
DTEND;TZID=America/New_York:20250529T190000
DTSTAMP:20260425T184213
CREATED:20250121T193639Z
LAST-MODIFIED:20250522T184142Z
UID:26623-1748541600-1748545200@novatransit.org
SUMMARY:Joint NVTC WMATA Committee/Legislative and Policy Committee* virtual
DESCRIPTION:meeting materials
URL:https://novatransit.org/event/joint-nvtc-wmata-committee-legislative-and-policy-committee-2/
LOCATION:Virtual
END:VEVENT
BEGIN:VEVENT
DTSTART;TZID=America/New_York:20250605T180000
DTEND;TZID=America/New_York:20250605T190000
DTSTAMP:20260425T184213
CREATED:20250121T193736Z
LAST-MODIFIED:20250121T193736Z
UID:26625-1749146400-1749150000@novatransit.org
SUMMARY:Executive Committee
DESCRIPTION:meeting materials
URL:https://novatransit.org/event/executive-committee-42/
LOCATION:NVTC-Suite 230\, 2300 Wilson Blvd\, #230\, Arlington\, VA\, 22201\, United States
END:VEVENT
BEGIN:VEVENT
DTSTART;TZID=America/New_York:20250605T190000
DTEND;TZID=America/New_York:20250605T210000
DTSTAMP:20260425T184213
CREATED:20250121T193909Z
LAST-MODIFIED:20250121T193909Z
UID:26627-1749150000-1749157200@novatransit.org
SUMMARY:Commission Meeting
DESCRIPTION:meeting materials
URL:https://novatransit.org/event/commission-meeting-49/
LOCATION:NVTC- 1st Floor Conf. Room\, 2300 Wilson Blvd.\, Arlington\, 22201
END:VEVENT
BEGIN:VEVENT
DTSTART;TZID=America/New_York:20250618T163000
DTEND;TZID=America/New_York:20250618T173000
DTSTAMP:20260425T184213
CREATED:20250314T134518Z
LAST-MODIFIED:20250616T183037Z
UID:27012-1750264200-1750267800@novatransit.org
SUMMARY:cancelled: Program Advisory Committee
DESCRIPTION:cancelled: Program Advisory Committee
URL:https://novatransit.org/event/program-advisory-committee-10/
LOCATION:NVTC-Suite 230\, 2300 Wilson Blvd\, #230\, Arlington\, VA\, 22201\, United States
END:VEVENT
BEGIN:VEVENT
DTSTART;TZID=America/New_York:20250618T180000
DTEND;TZID=America/New_York:20250618T193000
DTSTAMP:20260425T184213
CREATED:20250121T194030Z
LAST-MODIFIED:20250603T193943Z
UID:26629-1750269600-1750275000@novatransit.org
SUMMARY:cancelled: Joint NVTC WMATA Committee/Legislative and Policy Committee
DESCRIPTION:cancelled
URL:https://novatransit.org/event/joint-nvtc-wmata-committee-legislative-and-policy-committee-3/
END:VEVENT
BEGIN:VEVENT
DTSTART;TZID=America/New_York:20250717T174500
DTEND;TZID=America/New_York:20250717T190000
DTSTAMP:20260425T184213
CREATED:20250121T194154Z
LAST-MODIFIED:20250710T164342Z
UID:26631-1752774300-1752778800@novatransit.org
SUMMARY:Executive Committee-Virtual
DESCRIPTION:meeting materials \nThis will be a virtual meeting. The meeting may be viewed on our YouTube channel.
URL:https://novatransit.org/event/executive-committee-virtual-6/
LOCATION:Virtual
END:VEVENT
BEGIN:VEVENT
DTSTART;TZID=America/New_York:20250717T190000
DTEND;TZID=America/New_York:20250717T200000
DTSTAMP:20260425T184213
CREATED:20250121T194441Z
LAST-MODIFIED:20250121T194441Z
UID:26634-1752778800-1752782400@novatransit.org
SUMMARY:Commission Meeting-Virtual
DESCRIPTION:meeting materials \nThis will be a virtual meeting. The meeting may be viewed on our YouTube channel.
URL:https://novatransit.org/event/commission-meeting-virtual-3/
LOCATION:Virtual
END:VEVENT
BEGIN:VEVENT
DTSTART;TZID=America/New_York:20250904T180000
DTEND;TZID=America/New_York:20250904T190000
DTSTAMP:20260425T184213
CREATED:20250718T141036Z
LAST-MODIFIED:20250718T141036Z
UID:28023-1757008800-1757012400@novatransit.org
SUMMARY:Executive Committee
DESCRIPTION:meeting materials
URL:https://novatransit.org/event/executive-committee-43/
LOCATION:NVTC-Suite 230\, 2300 Wilson Blvd\, #230\, Arlington\, VA\, 22201\, United States
END:VEVENT
BEGIN:VEVENT
DTSTART;TZID=America/New_York:20250904T190000
DTEND;TZID=America/New_York:20250904T210000
DTSTAMP:20260425T184213
CREATED:20250718T135922Z
LAST-MODIFIED:20250718T140033Z
UID:28020-1757012400-1757019600@novatransit.org
SUMMARY:Commission Meeting
DESCRIPTION:Read meeting agenda and materials here.
URL:https://novatransit.org/event/commission-meeting-50/
LOCATION:NVTC- 1st Floor Conf. Room\, 2300 Wilson Blvd.\, Arlington\, 22201
END:VEVENT
BEGIN:VEVENT
DTSTART;TZID=America/New_York:20250918T163000
DTEND;TZID=America/New_York:20250918T173000
DTSTAMP:20260425T184213
CREATED:20250908T154942Z
LAST-MODIFIED:20250908T154942Z
UID:28489-1758213000-1758216600@novatransit.org
SUMMARY:Program Advisory Committee
DESCRIPTION:
URL:https://novatransit.org/event/program-advisory-committee-11/
LOCATION:NVTC-Suite 230\, 2300 Wilson Blvd\, #230\, Arlington\, VA\, 22201\, United States
END:VEVENT
BEGIN:VEVENT
DTSTART;TZID=America/New_York:20250918T180000
DTEND;TZID=America/New_York:20250918T190000
DTSTAMP:20260425T184213
CREATED:20250910T133242Z
LAST-MODIFIED:20250910T133618Z
UID:28602-1758218400-1758222000@novatransit.org
SUMMARY:Joint WMATA Committee/Legislative and Policy Committee Meeting
DESCRIPTION:meeting materials
URL:https://novatransit.org/event/joint-wmata-committee-legislative-and-policy-committee-meeting-2/
LOCATION:NVTC-Suite 230\, 2300 Wilson Blvd\, #230\, Arlington\, VA\, 22201\, United States
END:VEVENT
BEGIN:VEVENT
DTSTART;TZID=America/New_York:20251002T190000
DTEND;TZID=America/New_York:20251002T200000
DTSTAMP:20260425T184213
CREATED:20250910T134449Z
LAST-MODIFIED:20250923T175658Z
UID:28612-1759431600-1759435200@novatransit.org
SUMMARY:No Commission Meeting
DESCRIPTION:There will be no October 2025 Commission meeting.
URL:https://novatransit.org/event/no-commission-meeting-5/
END:VEVENT
BEGIN:VEVENT
DTSTART;TZID=America/New_York:20251015T160000
DTEND;TZID=America/New_York:20251015T190000
DTSTAMP:20260425T184213
CREATED:20250922T133436Z
LAST-MODIFIED:20250923T193446Z
UID:29116-1760544000-1760554800@novatransit.org
SUMMARY:Open House-Envision Route 7
DESCRIPTION:We’re working to make buses faster and more reliable on Route 7! The corridor is home to the highest-ridership bus route in Northern Virginia and we want to make service even better. We are building on previous research conducted by NVTC and Fairfax County to study bus priority and BRT between Seven Corners and Mark Center/Southern Towers in Alexandria. \nJoin us at an open house for more information. \n  \nMore than two Commissioners may attend\, however\, this is not a NVTC business meeting and no actions will be transacted.
URL:https://novatransit.org/event/open-house-envision-route-7/
LOCATION:Culmore Community Library\, 6101 Knollwood Drive\, Falls Church\, Virginia\, 22041
ATTACH;FMTTYPE=image/png:https://novatransit.org/wp-content/uploads/OpenHouse3.png
END:VEVENT
BEGIN:VEVENT
DTSTART;TZID=America/New_York:20251016T180000
DTEND;TZID=America/New_York:20251016T190000
DTSTAMP:20260425T184213
CREATED:20250910T142118Z
LAST-MODIFIED:20250910T142118Z
UID:28620-1760637600-1760641200@novatransit.org
SUMMARY:Executive Committee
DESCRIPTION:
URL:https://novatransit.org/event/executive-committee-45/
LOCATION:NVTC-Suite 230\, 2300 Wilson Blvd\, #230\, Arlington\, VA\, 22201\, United States
END:VEVENT
BEGIN:VEVENT
DTSTART;TZID=America/New_York:20251016T190000
DTEND;TZID=America/New_York:20251016T200000
DTSTAMP:20260425T184213
CREATED:20250910T133439Z
LAST-MODIFIED:20250910T142212Z
UID:28604-1760641200-1760644800@novatransit.org
SUMMARY:Joint WMATA Committee/Legislative and Policy Committee Meeting
DESCRIPTION:meeting materials
URL:https://novatransit.org/event/joint-wmata-committee-legislative-and-policy-committee-meeting-3/
LOCATION:NVTC-Suite 230\, 2300 Wilson Blvd\, #230\, Arlington\, VA\, 22201\, United States
END:VEVENT
BEGIN:VEVENT
DTSTART;TZID=America/New_York:20251020T183000
DTEND;TZID=America/New_York:20251020T210000
DTSTAMP:20260425T184213
CREATED:20251015T132531Z
LAST-MODIFIED:20251015T132531Z
UID:29416-1760985000-1760994000@novatransit.org
SUMMARY:Northern Virginia Joint Transportation Meeting
DESCRIPTION:This is a joint public meeting held by the Commonwealth Transportation Board (Virginia Department of Transportation and Virginia Department of Rail and Public Transportation)\, Northern Virginia Transportation Authority (NVTA)\, Northern Virginia Transportation Commission (NVTC)\, Virginia Railway Express (VRE)\, and National Capital Region Transportation Planning Board (TPB). According to Virginia Code\, these organizations shall conduct a joint public meeting annually for the purposes of presenting to the public\, and receiving public comments on\, the transportation projects proposed and conducted by each entity in Planning District 8 (Northern Virginia). \nThe meeting will start at 6:30 p.m. with an open house where attendees can talk with representatives from each agency. A listening session with a panel of appointed officials from various agencies will begin at 7:15 p.m. and will be streamed online; information on viewing the live stream will be posted at https://www.vdot.virginia.gov/novatransportationmeeting. The panel will receive public comments about Virginia’s transportation network. \nGive your comments during the joint meeting or submit your written comments by November 3\, 2025\, by mail to Ms. Regina Moore\, Virginia Department of Transportation\, 4975 Alliance Drive\, Fairfax\, VA 22030 or email meetingcomments@VDOT.virginia.gov. Please reference “Northern Virginia Joint Transportation Meeting” in the subject line. \nFor more information please see the VDOT website.
URL:https://novatransit.org/event/northern-virginia-joint-transportation-meeting/
LOCATION:VDOT NoVa District Office\, 4975 Alliance Drive\, Fairfax\, VA\, 22030\, United States
END:VEVENT
BEGIN:VEVENT
DTSTART;TZID=America/New_York:20251106T173000
DTEND;TZID=America/New_York:20251106T190000
DTSTAMP:20260425T184213
CREATED:20250908T155425Z
LAST-MODIFIED:20251106T155850Z
UID:28494-1762450200-1762455600@novatransit.org
SUMMARY:Executive Committee
DESCRIPTION:meeting materials
URL:https://novatransit.org/event/executive-committee-44/
LOCATION:NVTC-Suite 230\, 2300 Wilson Blvd\, #230\, Arlington\, VA\, 22201\, United States
END:VEVENT
BEGIN:VEVENT
DTSTART;TZID=America/New_York:20251106T190000
DTEND;TZID=America/New_York:20251106T210000
DTSTAMP:20260425T184213
CREATED:20250908T155235Z
LAST-MODIFIED:20250910T133820Z
UID:28491-1762455600-1762462800@novatransit.org
SUMMARY:Commission Meeting
DESCRIPTION:meeting materials
URL:https://novatransit.org/event/commission-meeting-51/
LOCATION:NVTC- 1st Floor Conf. Room\, 2300 Wilson Blvd.\, Arlington\, 22201
END:VEVENT
BEGIN:VEVENT
DTSTART;TZID=America/New_York:20251120T180000
DTEND;TZID=America/New_York:20251120T190000
DTSTAMP:20260425T184213
CREATED:20250910T133544Z
LAST-MODIFIED:20251113T161334Z
UID:28606-1763661600-1763665200@novatransit.org
SUMMARY:Joint WMATA Committee/Legislative and Policy Committee Meeting
DESCRIPTION:meeting materials
URL:https://novatransit.org/event/joint-wmata-committee-legislative-and-policy-committee-meeting-4/
LOCATION:NVTC-Suite 230\, 2300 Wilson Blvd\, #230\, Arlington\, VA\, 22201\, United States
END:VEVENT
BEGIN:VEVENT
DTSTART;TZID=America/New_York:20251124T080000
DTEND;TZID=America/New_York:20251124T170000
DTSTAMP:20260425T184213
CREATED:20251125T155628Z
LAST-MODIFIED:20251125T155706Z
UID:29716-1763971200-1764003600@novatransit.org
SUMMARY:Public Comment period begins
DESCRIPTION:learn more \nends December 19\, 2025
URL:https://novatransit.org/event/public-comment-period-begins/
CATEGORIES:Public Comment Period
END:VEVENT
END:VCALENDAR