BEGIN:VCALENDAR
VERSION:2.0
PRODID:-//Northern Virginia Transportation Commission - ECPv6.15.20//NONSGML v1.0//EN
CALSCALE:GREGORIAN
METHOD:PUBLISH
X-ORIGINAL-URL:https://novatransit.org
X-WR-CALDESC:Events for Northern Virginia Transportation Commission
REFRESH-INTERVAL;VALUE=DURATION:PT1H
X-Robots-Tag:noindex
X-PUBLISHED-TTL:PT1H
BEGIN:VTIMEZONE
TZID:America/New_York
BEGIN:DAYLIGHT
TZOFFSETFROM:-0500
TZOFFSETTO:-0400
TZNAME:EDT
DTSTART:20240310T070000
END:DAYLIGHT
BEGIN:STANDARD
TZOFFSETFROM:-0400
TZOFFSETTO:-0500
TZNAME:EST
DTSTART:20241103T060000
END:STANDARD
BEGIN:DAYLIGHT
TZOFFSETFROM:-0500
TZOFFSETTO:-0400
TZNAME:EDT
DTSTART:20250309T070000
END:DAYLIGHT
BEGIN:STANDARD
TZOFFSETFROM:-0400
TZOFFSETTO:-0500
TZNAME:EST
DTSTART:20251102T060000
END:STANDARD
BEGIN:DAYLIGHT
TZOFFSETFROM:-0500
TZOFFSETTO:-0400
TZNAME:EDT
DTSTART:20260308T070000
END:DAYLIGHT
BEGIN:STANDARD
TZOFFSETFROM:-0400
TZOFFSETTO:-0500
TZNAME:EST
DTSTART:20261101T060000
END:STANDARD
END:VTIMEZONE
BEGIN:VEVENT
DTSTART;TZID=America/New_York:20251215T083000
DTEND;TZID=America/New_York:20251215T113000
DTSTAMP:20260425T225217
CREATED:20250314T145438Z
LAST-MODIFIED:20251125T152144Z
UID:27014-1765787400-1765798200@novatransit.org
SUMMARY:NVTC-PRTC-VRE Legislative Forum
DESCRIPTION:Read more and register for the event here: 2025 Legislative Forum
URL:https://novatransit.org/event/legislative-forum/
LOCATION:GMU Schar School\, 3351 Fairfax Drive\, Arlington\, VA\, 22201\, United States
CATEGORIES:Special Event
ATTACH;FMTTYPE=image/png:https://novatransit.org/wp-content/uploads/Forum-Save-the-Date-Tile-25.png
END:VEVENT
END:VCALENDAR