BEGIN:VCALENDAR
VERSION:2.0
PRODID:-//Northern Virginia Transportation Commission - ECPv6.15.20//NONSGML v1.0//EN
CALSCALE:GREGORIAN
METHOD:PUBLISH
X-ORIGINAL-URL:https://novatransit.org
X-WR-CALDESC:Events for Northern Virginia Transportation Commission
REFRESH-INTERVAL;VALUE=DURATION:PT1H
X-Robots-Tag:noindex
X-PUBLISHED-TTL:PT1H
BEGIN:VTIMEZONE
TZID:America/New_York
BEGIN:DAYLIGHT
TZOFFSETFROM:-0500
TZOFFSETTO:-0400
TZNAME:EDT
DTSTART:20240310T070000
END:DAYLIGHT
BEGIN:STANDARD
TZOFFSETFROM:-0400
TZOFFSETTO:-0500
TZNAME:EST
DTSTART:20241103T060000
END:STANDARD
BEGIN:DAYLIGHT
TZOFFSETFROM:-0500
TZOFFSETTO:-0400
TZNAME:EDT
DTSTART:20250309T070000
END:DAYLIGHT
BEGIN:STANDARD
TZOFFSETFROM:-0400
TZOFFSETTO:-0500
TZNAME:EST
DTSTART:20251102T060000
END:STANDARD
BEGIN:DAYLIGHT
TZOFFSETFROM:-0500
TZOFFSETTO:-0400
TZNAME:EDT
DTSTART:20260308T070000
END:DAYLIGHT
BEGIN:STANDARD
TZOFFSETFROM:-0400
TZOFFSETTO:-0500
TZNAME:EST
DTSTART:20261101T060000
END:STANDARD
BEGIN:DAYLIGHT
TZOFFSETFROM:-0500
TZOFFSETTO:-0400
TZNAME:EDT
DTSTART:20270314T070000
END:DAYLIGHT
BEGIN:STANDARD
TZOFFSETFROM:-0400
TZOFFSETTO:-0500
TZNAME:EST
DTSTART:20271107T060000
END:STANDARD
END:VTIMEZONE
BEGIN:VEVENT
DTSTART;TZID=America/New_York:20260403T080000
DTEND;TZID=America/New_York:20260403T170000
DTSTAMP:20260424T192603
CREATED:20260227T141522Z
LAST-MODIFIED:20260227T142051Z
UID:30792-1775203200-1775235600@novatransit.org
SUMMARY:Public Comment Closes/ I-66 Commuter Choice
DESCRIPTION:
URL:https://novatransit.org/event/public-comment-closes-i-395-commuter-choice/
CATEGORIES:Public Comment Period
END:VEVENT
BEGIN:VEVENT
DTSTART;TZID=America/New_York:20260304T080000
DTEND;TZID=America/New_York:20260304T170000
DTSTAMP:20260424T192603
CREATED:20260227T141222Z
LAST-MODIFIED:20260227T142021Z
UID:30790-1772611200-1772643600@novatransit.org
SUMMARY:Public Comment Opens/ I-66 Commuter Choice
DESCRIPTION:
URL:https://novatransit.org/event/public-comment-opens-on-i-395-commuter-choice/
CATEGORIES:Public Comment Period
END:VEVENT
BEGIN:VEVENT
DTSTART;TZID=America/New_York:20251219T163000
DTEND;TZID=America/New_York:20251219T170000
DTSTAMP:20260424T192603
CREATED:20251125T155455Z
LAST-MODIFIED:20251125T155831Z
UID:29713-1766161800-1766163600@novatransit.org
SUMMARY:Public Comment Period Ends
DESCRIPTION:learn more
URL:https://novatransit.org/event/public-comment-period-ends/
CATEGORIES:Public Comment Period
END:VEVENT
BEGIN:VEVENT
DTSTART;TZID=America/New_York:20251124T080000
DTEND;TZID=America/New_York:20251124T170000
DTSTAMP:20260424T192603
CREATED:20251125T155628Z
LAST-MODIFIED:20251125T155706Z
UID:29716-1763971200-1764003600@novatransit.org
SUMMARY:Public Comment period begins
DESCRIPTION:learn more \nends December 19\, 2025
URL:https://novatransit.org/event/public-comment-period-begins/
CATEGORIES:Public Comment Period
END:VEVENT
END:VCALENDAR