BEGIN:VCALENDAR
VERSION:2.0
PRODID:-//Northern Virginia Transportation Commission - ECPv6.15.20//NONSGML v1.0//EN
CALSCALE:GREGORIAN
METHOD:PUBLISH
X-ORIGINAL-URL:https://novatransit.org
X-WR-CALDESC:Events for Northern Virginia Transportation Commission
REFRESH-INTERVAL;VALUE=DURATION:PT1H
X-Robots-Tag:noindex
X-PUBLISHED-TTL:PT1H
BEGIN:VTIMEZONE
TZID:America/New_York
BEGIN:DAYLIGHT
TZOFFSETFROM:-0500
TZOFFSETTO:-0400
TZNAME:EDT
DTSTART:20250309T070000
END:DAYLIGHT
BEGIN:STANDARD
TZOFFSETFROM:-0400
TZOFFSETTO:-0500
TZNAME:EST
DTSTART:20251102T060000
END:STANDARD
BEGIN:DAYLIGHT
TZOFFSETFROM:-0500
TZOFFSETTO:-0400
TZNAME:EDT
DTSTART:20260308T070000
END:DAYLIGHT
BEGIN:STANDARD
TZOFFSETFROM:-0400
TZOFFSETTO:-0500
TZNAME:EST
DTSTART:20261101T060000
END:STANDARD
BEGIN:DAYLIGHT
TZOFFSETFROM:-0500
TZOFFSETTO:-0400
TZNAME:EDT
DTSTART:20270314T070000
END:DAYLIGHT
BEGIN:STANDARD
TZOFFSETFROM:-0400
TZOFFSETTO:-0500
TZNAME:EST
DTSTART:20271107T060000
END:STANDARD
END:VTIMEZONE
BEGIN:VEVENT
DTSTART;TZID=America/New_York:20260507T180000
DTEND;TZID=America/New_York:20260507T190000
DTSTAMP:20260423T074116
CREATED:20251203T213014Z
LAST-MODIFIED:20251203T213630Z
UID:30069-1778176800-1778180400@novatransit.org
SUMMARY:Executive Committee
DESCRIPTION:
URL:https://novatransit.org/event/executive-committee/
LOCATION:NVTC-Suite 230\, 2300 Wilson Blvd\, #230\, Arlington\, VA\, 22201\, United States
CATEGORIES:Committee Meeting
END:VEVENT
BEGIN:VEVENT
DTSTART;TZID=America/New_York:20260507T190000
DTEND;TZID=America/New_York:20260507T210000
DTSTAMP:20260423T074116
CREATED:20251203T213115Z
LAST-MODIFIED:20251203T213115Z
UID:30071-1778180400-1778187600@novatransit.org
SUMMARY:Commission Meeting
DESCRIPTION:
URL:https://novatransit.org/event/commission-meeting/
LOCATION:NVTC- 1st Floor Conf. Room\, 2300 Wilson Blvd.\, Arlington\, 22201
CATEGORIES:Meeting
END:VEVENT
END:VCALENDAR